BEGIN:VCALENDAR
PRODID:PHP
VERSION:1.0
METHOD:PUBLISH
BEGIN:VEVENT
CLASS:PUBLIC
CREATED:20260425T163713Z
DESCRIPTION:Sie erhalten als Einsteiger ins Folienverpackungsgeschäft einen praxisbezogenen Überblick über unterschiedliche Verbundfolien sowie deren Charakterisierung und Prüfung. Im Vordergrund stehen Anwendungen und Einsatzzwecke in der Verpackungsindustrie. In Praxisteilen, im Labor, lernen Sie die  Eigenschaften anhand von Folienmustern und einfachen Laborprüfungen kennen. Gearbeitet wird in kleinen Gruppen von 4 Personen, um auf individuelle Fragen und Wünsche eingehen zu können. Fach-, Kunden- und Lieferantengespräche können nach diesem Workshop mit mehr Kompetenz bewältigt werden. Eigene Muster können gerne mitgebracht werden.
DTSTART:20091006T000000
DTEND:20091007T000000
LOCATION:Eppertshausen
SUMMARY;LANGUAGE=de-de:BA-10-09: Verbundfolien für Einsteiger -  Basiswissen zum Anfassen
END:VEVENT
END:VCALENDAR