BEGIN:VCALENDAR
PRODID:PHP
VERSION:1.0
METHOD:PUBLISH
BEGIN:VEVENT
CLASS:PUBLIC
CREATED:20260424T163100Z
DESCRIPTION:Warum wandert der Sauerstoff in eine Packung oder das CO2 aus dieser heraus?  Solche und ähnliche Fragen klären wir in diesem zweiten Teil unserer Barrierefolien-Webseminar-Reihe. Wir klären neben einigen Grundlagen wie Partialdruck und Permeationsrate auch die Einheiten für eine Permeationsangabe, und wie man diese für die Praxis nutzen kann.\nWir besprechen, wie man prinzipiell und im Einzelfall Barrieren erzeugen und verbessern kann. Wirtschaftliche Aspekte spielen da ebenso eine Rolle wie die physikalischen Grundgegebenheiten, die eine der Hauptaufgaben von Verpackungen ausmachen - die Sperrwirkung gegen Umwelteinflüsse.
DTSTART:20260922T103000
DTEND:20260922T124000
LOCATION:Online
SUMMARY;LANGUAGE=de-de:BVb-09-26: Wie funktioniert Barriere? - Barrierefolien Teil 2
END:VEVENT
END:VCALENDAR