BEGIN:VCALENDAR
PRODID:PHP
VERSION:1.0
METHOD:PUBLISH
BEGIN:VEVENT
CLASS:PUBLIC
CREATED:20260424T165119Z
DESCRIPTION:Der Bereich des Hygienemanagements weitet sich auf immer mehr Industrien aus. Nicht nur die Lebensmittel- und Verpackungsindustrie ist gefordert, sondern auch Zulieferer und Kunden. In diesem Seminar möchten wir eine Plattform zum Gedankenaustausch für Hygienemanager und alle, die es werden möchten, bieten. Im Vorfeld werden Neuerungen in den Vorgaben und vor allem Methoden zur Sicherstellung guter Hygienepraxis vorgestellt.\nTeilnehmern werden fundierte Fähigkeiten wie\n• Teamorganisation- und führung\n• Verifikationsstrategien \n• Hygieneschulungen planen und durchführen\n• Didaktik für interne Schulungen\nvermittelt. Es ist ausreichend Zeit für spezielle Fragen zur Umsetzung in die Praxis.
DTSTART:20100929T084500
DTEND:20100930T150000
LOCATION:Osnabrück
SUMMARY;LANGUAGE=de-de:HM-09-10: Der Hygienemanager und Hygienetrainer - Aufgaben, Herausforderungen und Methodentraining
END:VEVENT
END:VCALENDAR