BEGIN:VCALENDAR
PRODID:PHP
VERSION:1.0
METHOD:PUBLISH
BEGIN:VEVENT
CLASS:PUBLIC
CREATED:20260424T135535Z
DESCRIPTION:Zum sechsten Mal treffen sich Folienverpackungshersteller, ihre Kunden und Zulieferer, wie Einzelhandel, Lebensmittelindustrie, Folienveredeler, Kunststoff- und Zusatzstofflieferanten sowie Maschinenhersteller der Folienindustrie in Osnabrück. In gewohnt gelöster Atmosphäre dreht sich diesmal alles um „easy-opening und reclosable“ Folienverpackungen. Mit technisch ausgerichteten Beiträgen honoriger Referenten werden heutige Möglichkeiten, neue Trends und Visionen zur Steigerung der „Convenience“ für Folienverpackung zu gestalten, präsentiert. Lösungen wie: Perforation, Lasercut, Zipper, Ausgießhilfen und klassische Peelsysteme mit und ohne Wiederverschlussklebstoffen werden analysiert und kritisch betrachtet. Nutzen Sie diese Möglichkeit im Kunden- und Lieferantenkreis Innovationen und Trends zu erfahren und mit zu gestalten.
DTSTART:20090203T000000
DTEND:20090204T000000
LOCATION:Osnabrück
SUMMARY;LANGUAGE=de-de:IM-02-09: 7. Inno-Meeting 2009 Nachhaltige Folienverpackungen - vom Rohstoff über einen optimalen Produktschutz bis zum Recycling
END:VEVENT
END:VCALENDAR