BEGIN:VCALENDAR
PRODID:PHP
VERSION:1.0
METHOD:PUBLISH
BEGIN:VEVENT
CLASS:PUBLIC
CREATED:20260419T155349Z
DESCRIPTION:Als führende Branchenveranstaltung der flexiblen Verpackungsindustrie im deutschsprachigen Raum findet das Inno-Meeting im Februar 2027 zum 24. Mal statt. Derzeit sind wir damit befasst, aktuelle Branchenthemen zu sammeln. Jeder ist herzlich eingeladen, Vortragsvorschläge einzureichen. Bitte nutzen Sie dafür die E-Mail-Adresse Coaching@Innoform. eu
DTSTART:20270216T190000
DTEND:20270217T141000
LOCATION:Osnabrück
SUMMARY;LANGUAGE=de-de:IM-02-27: 24. Inno-Meeting
END:VEVENT
END:VCALENDAR