BEGIN:VCALENDAR
PRODID:PHP
VERSION:1.0
METHOD:PUBLISH
BEGIN:VEVENT
CLASS:PUBLIC
CREATED:20260420T213353Z
DESCRIPTION:Kreislaufwirtschaft gehört nicht nur in der Verpackungsindustrie zu den Mega-Trends. In Europa werden aktuell Kräfte aus vielfältigen Industriezweigen gebündelt. Angestoßen durch Nachhaltigkeitsbemühungen der Regierungen setzen sich Verbände ebenso für echte Kreislaufkonzepte ein wie Einzelhandel und Brand Owner. Wir diskutieren die europäischen Unterschiede, Lösungswege für die Flexpackindustrie sowie ihre Lieferanten und Kunden.
DTSTART:20211001T133000
DTEND:20211001T155500
LOCATION:Online
SUMMARY;LANGUAGE=de-de:INE-10-21w: Circular economy  in flexpack - Flexpackwissen für Entscheider
END:VEVENT
END:VCALENDAR