BEGIN:VCALENDAR
PRODID:PHP
VERSION:1.0
METHOD:PUBLISH
BEGIN:VEVENT
CLASS:PUBLIC
CREATED:20260423T201312Z
DESCRIPTION:Nitrozellulosefarben haben viele Vorteile. Sie sind in verschiedenen Druckverfahren etabliert und bewährt.\nSo sind NC-Druckfarben dafür verantwortlich, dass Verpackungen beim Recycling deutlich beeinträchtigt werden.\nNeben Geruchs- und Verfärbungsproblemen sind auch lebensmittelrechtliche Bedenken ein Thema.\nObwohl die Forschung noch nicht abgeschlossen ist, werden bereits Alternativen getestet und eingesetzt. Zum Beispiel Hybridsysteme (NC_PU) oder auch reine PU-Systeme.\nDie Vor- und Nachteile dieser Farbsysteme werden kontrovers diskutiert.
DTSTART:20250221T133000
DTEND:20250221T144500
LOCATION:
SUMMARY;LANGUAGE=de-de:INT-02-25: NC-freie Druckfarben - Sinn und Unsinn
END:VEVENT
END:VCALENDAR