BEGIN:VCALENDAR
PRODID:PHP
VERSION:1.0
METHOD:PUBLISH
BEGIN:VEVENT
CLASS:PUBLIC
CREATED:20260421T152011Z
DESCRIPTION:Das Siegeln ist einer der großen Vorteile von Kunststoffverpackungen. Aber auch da kommt es auf's Detail an. Wir zeigen in diesem Inno-Talk, warum das richtige Siegelverfahren und das richtige Material wichtig sind. Und dabei gehen wir auch auf die Materialvielfalt ein.\nProfitieren Sie von aktuellem Expertenwissen für Abpacker und Hersteller gleichermaßen.
DTSTART:20221118T133000
DTEND:20221118T150500
LOCATION:Online
SUMMARY;LANGUAGE=de-de:INT-11-22: Siegeln - Dicht muss es schon werden
END:VEVENT
END:VCALENDAR