BEGIN:VCALENDAR
PRODID:PHP
VERSION:1.0
METHOD:PUBLISH
BEGIN:VEVENT
CLASS:PUBLIC
CREATED:20260423T175633Z
DESCRIPTION:
DTSTART:20060404T000000
DTEND:20060405T000000
LOCATION:Freising
SUMMARY;LANGUAGE=de-de:MAP-04-06: MAP-Projekt mit ofi und IVV
END:VEVENT
END:VCALENDAR