BEGIN:VCALENDAR
PRODID:PHP
VERSION:1.0
METHOD:PUBLISH
BEGIN:VEVENT
CLASS:PUBLIC
CREATED:20260423T164216Z
DESCRIPTION:**Elektrostatik – Unsichtbar, aber mit gewaltiger Wirkung**\nElektrostatik begegnet uns überall – ob im Alltag, in Produktionsprozessen oder in Hightech-Anwendungen. In diesem Seminar werfen wir einen umfassenden Blick auf ihre Grundlagen, ihre Tücken und ihr erstaunliches Potenzial.\n\n**Vom Funken zur Strategie:**  \nWir starten mit dem grundlegenden Verständnis – was Elektrostatik ist, wie sie entsteht, und welche elektrischen Größen dabei eine Rolle spielen. Dabei betrachten wir nicht nur theoretische Aspekte, sondern auch die vielfältigen Einflüsse und Wechselwirkungen, die sie so komplex machen.\n\n**Effekte und Gefahren im Blick:**  \nOb gefährliche Entladungen, störanfällige Elektronik oder physiologische Wirkungen – die Effekte von Elektrostatik sind ebenso faszinierend wie herausfordernd. Wir beleuchten Ursachen, Mechanismen und die Folgen auf Mikro- und Makroebene.\n\n**Messen, beeinflussen, eliminieren:**  \nMessverfahren und -geräte helfen, Elektrostatik sichtbar zu machen. Doch wie misst man richtig? Und vor allem: Wie wird man sie wieder los? Von einfachen Maßnahmen bis zu Hightech-Systemen lernst du Strategien kennen, wie man gezielt Einfluss nimmt – sei es prozesstechnisch, konstruktiv oder mithilfe externer Hilfsmittel.\n\n**Anwendungen mit Köpfchen:**  \nOb in Fertigung, Medizintechnik oder Forschung – Elektrostatik richtig angewendet kann ein echter Gewinn sein. Wir analysieren Einsatzgebiete, bewerten Chancen und Risiken moderner Systeme und entwickeln gemeinsam Strategien für die Praxis.
DTSTART:20260623T093000
DTEND:20260624T133000
LOCATION:Osnabrück
SUMMARY;LANGUAGE=de-de:AS-06-26: Elektrostatik - (nicht nur) bei Folienherstellung, Folienverarbeitung, Foliennutzung
END:VEVENT
END:VCALENDAR