BEGIN:VCALENDAR
PRODID:PHP
VERSION:1.0
METHOD:PUBLISH
BEGIN:VEVENT
CLASS:PUBLIC
CREATED:20260419T182810Z
DESCRIPTION:Dieser praxisnahe Workshop ist speziell für Anwender (Abpacker, Lebensmittelhersteller) und Hersteller von flexiblen Verpackungen entwickelt. Konzipiert für Mitarbeiter aller Unternehmensbereiche, die Audits durchführen oder begleiten und dadurch Impulse für den kontinuierlichen Verbesserungsprozess erzielen wollen. Die Teilnehmer erlernen, auf der Basis der Regelwerke IFS, DIN EN ISO 9001 und BRC/IoP Qualitätsaudits zu planen und erfolgreich durchzuführen. Insbesondere die richtigen Fragen richtig stellen und einen Blick für konstruktive Weiterentwicklung zu bekommen, ist ein wesentliches Lernziel. Sowohl interne als auch Lieferantenaudits können anschließend sicher realisiert werden.
DTSTART:20110913T090000
DTEND:20110914T150000
LOCATION:Osnabrück
SUMMARY;LANGUAGE=de-de:AU-09-11: Audits in der Verpackungsindustrie
END:VEVENT
END:VCALENDAR