BEGIN:VCALENDAR
PRODID:PHP
VERSION:1.0
METHOD:PUBLISH
BEGIN:VEVENT
CLASS:PUBLIC
CREATED:20260424T203232Z
DESCRIPTION:Dit seminar richt zich op medewerkers van folie-producenten en folie-verwerkers, die op het vakgebied van de biologisch afbreekbare en hernieuwbare polymeren kennis willen vergaren. De belangrijkste polymeren, die voor folies toegepast worden komen aan de orde. De nadruk ligt daarbij op het totaaloverzicht, voor- en nadelen van de „biopolymeren“ en de vergelijking met „standaardkunststoffen“. Voorbeelden in de toepassing, die pas door de nieuwe eigenschappen van deze materialen mogelijk zijn en de thema’s „bio-afbreekbaarheid“ en „bio-balans” worden besproken.
DTSTART:20120315T080000
DTEND:20120315T161500
LOCATION:Veldhoven
SUMMARY;LANGUAGE=de-de:BP-03-12-NL: Biomaterialen: kader, eigenschappen en toepassingen
END:VEVENT
END:VCALENDAR