BEGIN:VCALENDAR
PRODID:PHP
VERSION:1.0
METHOD:PUBLISH
BEGIN:VEVENT
CLASS:PUBLIC
CREATED:20260424T203120Z
DESCRIPTION:Dieses Seminar richtet sich an Mitarbeiter von Folienherstellern und -verarbeitern, die auf dem Fachgebiet der biologisch abbaubaren und nachhaltigen Polymere (Biopolymere) Wissen aufbauen möchten. Wir stellen die wesentlichen Polymere, die für Folienanwendungen verwendet werden, vor. Schwerpunkte liegen dabei auf dem Gesamtüberblick, auf Vor- und Nachteilen diverser Biopolymere und dem Vergleich zu „Standardkunststoffen“. Anwendungsbeispiele, die erst durch die neuen Eigenschaften dieser Materialien möglich werden, finden ebenso Raum wie das Thema der „Bio-Abbaubarkeit“ und Ökobilanz.\nNach dem Seminar können Sie die wesentlichen Biopolymere einschätzen und kennen deren Struktur und Eigenschaftsprofil – natürlich hauptsächlich für die Folienanwendungen in Verpackungen.
DTSTART:20110922T090000
DTEND:20110922T171500
LOCATION:Osnabrück
SUMMARY;LANGUAGE=de-de:BP-09-11: Biopolymere für Folienanwendungen
END:VEVENT
END:VCALENDAR