BEGIN:VCALENDAR
PRODID:PHP
VERSION:1.0
METHOD:PUBLISH
BEGIN:VEVENT
CLASS:PUBLIC
CREATED:20260424T184000Z
DESCRIPTION:Das Verarbeiten von Barrierefolien setzt Grundwissen voraus, damit keine Schäden entstehen, denn (!) Barriere sieht man nicht. Wir zeigen, welche Anforderungen beim Weiterverarbeiten und Abpacken erforderlich sind. Auch zeigen wir typische Fehler und wie man diese vermeidet. Das Siegeln und Peelen wird ebenso als Fehlerursache eingeordnet wie auch zu hohe Bahnspannungen, Knickbruch oder Dünnstellen.  Auch stellen wir Vergleiche zwischen Dichtheit und Barriere an. Hier zeigen wir die wesentlichen Prüfmethoden und deren Aussagekraft für die diversen Füllgüter und Packungen auf.
DTSTART:20260612T103000
DTEND:20260612T124000
LOCATION:Online
SUMMARY;LANGUAGE=de-de:BVd-06-26: Dichtigkeitsprüfungen, Siegeln und Verarbeitung von Barrierefolien(verpackungen) - Barrierefolien Teil 4
END:VEVENT
END:VCALENDAR