BEGIN:VCALENDAR
PRODID:PHP
VERSION:1.0
METHOD:PUBLISH
BEGIN:VEVENT
CLASS:PUBLIC
CREATED:20260419T172320Z
DESCRIPTION:Alle  Hygienestandards fordern, dass  s. g. kritische Lenkungspunkte identifiziert und geregelt werden. Die Frage ist, aber wie? In diesem eintägigen Kompaktseminar erhalten Sie praxisnahe Tipps und Anregungen zur richtigen Risikobewertung und -Lenkung. Dieser Kurs ergänzt ideal vorhandene Kenntnisse über Management- und Hygienemanagementsysteme. Sowohl (Qualitäts-) Managementbeauftragte als auch Betriebsverantwortliche nutzen dieses Angebot zur Erhöhung der Sicherheit im Betrieb.
DTSTART:20110202T080000
DTEND:20110202T160000
LOCATION:Osnabrück
SUMMARY;LANGUAGE=de-de:CP-02-11: Umgang mit Hygienerisiken und CCPs (kritischen Lenkungspunkten)
END:VEVENT
END:VCALENDAR