BEGIN:VCALENDAR
PRODID:PHP
VERSION:1.0
METHOD:PUBLISH
BEGIN:VEVENT
CLASS:PUBLIC
CREATED:20260425T164203Z
DESCRIPTION:Ein-/Aufsteiger in der Folienbranche erhalten einen praxisbezogenen Überblick über unterschiedliche Folienprüfungen sowie deren Aussagekraft für Folienanwendungen. Dieser Einsteigerkursus zielt auf einen fundierten Überblick üblicher Folienprüfmethoden und kann als Vorbildung für unseren Workshop in Oldenburg: Mechanische Folienprüfungen beschrieben werden.\nInsbesondere Mitarbeitern bei Lebensmittelherstellern oder anderen Folienanwendern erhalten einen Einblick in die Tücken der Folienprüfungen.
DTSTART:20070920T000000
DTEND:20070921T000000
LOCATION:Eppertshausen
SUMMARY;LANGUAGE=de-de:FP-09-07: Folien- und Verpackungsprüfung in der Praxis für Einsteiger
END:VEVENT
END:VCALENDAR