BEGIN:VCALENDAR
PRODID:PHP
VERSION:1.0
METHOD:PUBLISH
BEGIN:VEVENT
CLASS:PUBLIC
CREATED:20260424T231736Z
DESCRIPTION:Deze crashcursus is bedoeld voor zowel beginnende als ervaren medewerkers uit de producerende, verwerkende en verpakkende folie-industrie (speerpunt levensmiddelen). Tijdens deze cursus wordt de voorhanden basiskennis uitgebreid. Op theoretische wijze, maar zeer praktijkgericht, wordt kennis over de technologie van kunststof verpakkingsfolies overgebracht. De nadruk ligt op gefundeerde grondbeginselen. Er wordt diep ingegaan op het verband tussen chemische structuur en eigenschappen van folies. De belangrijkste kunststoffen die voor de productie van folieverpakkingen worden gebruikt komen uitgebreid aan bod en de verwerking tot folie wordt verklaard (extrusie, gietfolie, blaasfolie). Aan de hand van voorbeelden uit levensmiddelenindustrie worden de eigenschappen van de verpakkingen praktijkgericht besproken. U verkrijgt zo een overzicht van de productie-mogelijkheden, basiskennis over het afvulproces en de toepassingen van kunststof folieverpakkingen. Tevens verkrijgt u een goede basis bij de formulatie van nieuwe meerlaagse folies (coextrusie-laminatie), aangepast aan het te verpakken product.
DTSTART:20110322T080000
DTEND:20110323T140000
LOCATION:Veldhoven
SUMMARY;LANGUAGE=de-de:GF-03-11-NL: Kunststof verpakkingsfolies - materialen, techniek en toepassingen
END:VEVENT
END:VCALENDAR