BEGIN:VCALENDAR
PRODID:PHP
VERSION:1.0
METHOD:PUBLISH
BEGIN:VEVENT
CLASS:PUBLIC
CREATED:20260422T150833Z
DESCRIPTION:Mono-material solutions are on everyone's lips today. But they are still rare on the shelf, aren't they? We show real solutions for better recyclability and top properties. We talk about raw materials, processes and brand needs.
DTSTART:20230915T133000
DTEND:20230915T145000
LOCATION:Online
SUMMARY;LANGUAGE=de-de:INE-09-23: Mono Material Flexpack Solutions - DREAM OR REALITY?
END:VEVENT
END:VCALENDAR