BEGIN:VCALENDAR
PRODID:PHP
VERSION:1.0
METHOD:PUBLISH
BEGIN:VEVENT
CLASS:PUBLIC
CREATED:20260420T231547Z
DESCRIPTION:The circular economy is not only a mega-trend in the packaging industry. In Europe, forces from many different industries are currently being bundled. Prompted by governments' sustainability efforts, associations are campaigning for genuine circular concepts, as are retailers and brand owners. We will discuss the European differences and possible solutions for the flexpack industry as well as your suppliers and customers.
DTSTART:20211001T133000
DTEND:20211001T155500
LOCATION:Online
SUMMARY;LANGUAGE=de-de:INE-10-21w: Circular economy  in flexpack
END:VEVENT
END:VCALENDAR