BEGIN:VCALENDAR
PRODID:PHP
VERSION:1.0
METHOD:PUBLISH
BEGIN:VEVENT
CLASS:PUBLIC
CREATED:20260424T013959Z
DESCRIPTION:Mit Inno-Talk beleuchten wir im 4-Wochen-Rhythmus aktuelle Themen rund um das Thema "Flexible Verpackungen". Wir bieten eine Mischung aus Kurzvorträgen, Diskussionsrunden, Faktencheck und Interviews.Das 60-Minuten-Format nutzt dafür moderne Online-Streaming-Technologie. Die anschließende Netzwerkmöglichkeit rundet das Angebot ab. Nach und nach wird eine Ausstellerwelt entstehen, die interaktiven Austausch zusätzlich fördert.
DTSTART:20210226T133000
DTEND:20210226T155000
LOCATION:Online
SUMMARY;LANGUAGE=de-de:INT-02-21w: Inno-Talk - Flexpackwissen für Entscheider: Der Standbeutel
END:VEVENT
END:VCALENDAR