BEGIN:VCALENDAR
PRODID:PHP
VERSION:1.0
METHOD:PUBLISH
BEGIN:VEVENT
CLASS:PUBLIC
CREATED:20260422T040103Z
DESCRIPTION:Welche Regeln gelten für die Migrationsprüfungen? Wie wird geprüft, und wie beauftrage ich die richtigen Prüfungen? Das sind wesentliche Fragen, die in diesem Webseminar beantwortet werden. Hersteller und Anwender von Lebensmittelverpackungen profitieren von diesem kompakten Update gleichermaßen.
DTSTART:20260930T100000
DTEND:20260930T113000
LOCATION:Online
SUMMARY;LANGUAGE=de-de:LFe-09-26: Migrationsprüfungen an Lebensmittelverpackungen - Crashkurs
END:VEVENT
END:VCALENDAR