BEGIN:VCALENDAR
PRODID:PHP
VERSION:1.0
METHOD:PUBLISH
BEGIN:VEVENT
CLASS:PUBLIC
CREATED:20260424T124637Z
DESCRIPTION:Die Anforderungen an Verantwortliche in der Lieferkette für den US-Markt sind vielfältig. Welche Regeln gibt es? Welche Grenzwerte gelten? Wie ist das amerikanische „Lebensmittelrecht für Verpackungen“ grundsätzlich aufgebaut? Wir klären systematisch auf. \n\nTeil 1 dieses Web-Seminars führt die Grundlagen des US Amerikanischen Rechts zu Verpackungen ein. Normale Kunststoff- oder Papier-Verpackungen können Sie nach Tag 1 sicher einstufen und haben alle relevanten Konformitätsfragen sicher im Griff. Sie lernen wichtige Informationsquellen und helfende Köpfe kennen. 
DTSTART:20261124T100000
DTEND:20261124T120000
LOCATION:Online
SUMMARY;LANGUAGE=de-de:LUb-11-26: Einstieg in die FDA-Regularien in den USA - Basics
END:VEVENT
END:VCALENDAR