BEGIN:VCALENDAR
PRODID:PHP
VERSION:1.0
METHOD:PUBLISH
BEGIN:VEVENT
CLASS:PUBLIC
CREATED:20260419T211551Z
DESCRIPTION:Das Seminar wendet sich an Verantwortungsträger im Bereich Verpackung, an Qualitätsbeauftragte und Betriebsleiter der gesamten Supply-Chain „Lebensmittel/Pharma/Consumer Goods“ mit Schwerpunkt aus den Bereichen Verpackungsherstellung, Handel und Verpacker sowie Lebensmittelwirtschaft.\nIn diesem Schwerpunkt dreht sich alles um die rechtlichen Forderungen und Auswirkungen beim Umgang und Einsatz von Packmitteln und Verpackungen insbesondere für Lebensmittel.
DTSTART:20070918T000000
DTEND:20070919T000000
LOCATION:Nürnberg
SUMMARY;LANGUAGE=de-de:SV-09-07: Plattform „Sichere Verpackung“ durch praktikable Spezifikationen  - Schwerpunkt 2007: Einhaltung gesetzlicher Vorgaben und Toleranzen
END:VEVENT
END:VCALENDAR