BEGIN:VCALENDAR
PRODID:PHP
VERSION:1.0
METHOD:PUBLISH
BEGIN:VEVENT
CLASS:PUBLIC
CREATED:20260425T140148Z
DESCRIPTION:Das Wechselspiel zwischen vertikalen Abfüllmaschinen (V-FFS), Material und Füllgut wird mit zunehmenden Marketing- und Leistungsansprüchen immer komplexer. Hier möchten wir  mit Anwendern - Folien- und Maschinen-herstellern einen fundierten Überblick über Lösungen geben, die einerseits optimale Effizienz, andererseits aber auch einen optimalen Produktschutz und gelungene Optik darstellen. Dieses Seminar ist besonders für die abfüllende Wirtschaft und Folienlieferanten gedacht und spricht Praktiker aus den Betrieben wie technische Leiter und Entwickler gleichermaßen an. Entscheidungsträger sollen Entscheidungshilfen mitnehmen.
DTSTART:20031106T000000
DTEND:20031107T000000
LOCATION:Osnabrück
SUMMARY;LANGUAGE=de-de:VF-11-03: Verpacken auf vertikalen Form-, Füll-, und Verschließsystemen – Konzepte, Formen und Folien
END:VEVENT
END:VCALENDAR