BEGIN:VCALENDAR
PRODID:PHP
VERSION:1.0
METHOD:PUBLISH
BEGIN:VEVENT
CLASS:PUBLIC
CREATED:20260423T214815Z
DESCRIPTION:Dieses Seminar richtet sich an Marktteilnehmer der Lebensmittel-sowie Verpackungsindustrie, die ihre Produkte mit Blick auf die Wechselwirkung zwischen Verpackung und Füllgut sicher verpacken und in Verkehr bringen wollen. \nDie Sicherheit von Lebensmittelverpackungen wird durch strenge Vorschriften geregelt, um unerwünschte Wechselwirkungen zwischen Verpackungsmaterialien und Lebensmitteln zu minimieren. Wichtige Aspekte sind funktionelle Barrieren, Set-off-Effekte und Diffusionsmodelle. Für die Bewertung von Verpackungslösungen im Hinblick auf Wechselwirkung, Migration und funktionelle Barriere erhalten Sie fundierte und aktuelle Informationen aus erster Hand. \nAuf Basis des aktuellen Rechts zu Materialien für den Lebensmittelkontakt (Richtlinien und Verordnungen (EG) 1935/2004; (EU)10/2011; (EU) 2019/37; (EU 2025/40 etc.) werden Risiken erörtert und Hintergründe zu Wechselwirkungsvorgängen diskutiert.\nKontaminanten wie Mineralöle (MOSH, MOAH) oder PFAS gelangen durch recyceltes Material oder Produktionsprozesse in Verpackungen und erfordern regulatorische Kontrolle. Migration und Permeation werden durch Simulationsmodelle bewertet, um sichere Verpackungslösungen zu entwickeln. Des Weiteren müssen Druckfarben und Klebstoffe hinsichtlich möglicher Migration geprüft werden. Ein weiterer Schwerpunkt ist die Analyse hormonaktiver Stoffe wie Bisphenol A und NIAS (Non Intentionally Added Substances) mittels chemischer und biologischer Verfahren, inklusive des Ames-Tests. \nZum Schluss erhalten Sie aktuelle Informationen bzgl. der neuen EU-Verordnung zu Verpackungen (PPWR), die auf Recycling, Mindestquoten für recycelte Kunststoffe und Reduktionsziele setzt, um Umweltbelastungen zu minimieren.\nViele nützliche Unterlagen und Tools zur Absicherung Ihrer Produkte werden besprochen und in Übungen vertieft. Durch ausreichend Zeit für Diskussionen stellt dieses Seminar zusätzlich ein ideales Forum zum Gedankenaustausch dar. Profitieren auch Sie von der Prüf- und Auditerfahrung der Referenten.\nDies ist ein Aufbauseminar und eine sinnvolle Ergänzung zum Bestseller "Lebensmittel- (Bedarfsgegenstände)recht" (http://lf.innoform.de). Ein vorheriger Besuch ist aber nicht zwingend erforderlich. Grundkenntnisse zum Lebensmittelrecht sind aber hilfreich.
DTSTART:20251112T093000
DTEND:20251113T151500
LOCATION:Osnabrück
SUMMARY;LANGUAGE=de-de:WV-11-25: Wechselwirkung zwischen Lebensmittel und Verpackung
END:VEVENT
END:VCALENDAR